BEGIN:VCALENDAR
VERSION:2.0
PRODID:-//ChamberMaster//Event Calendar 2.0//EN
METHOD:PUBLISH
X-PUBLISHED-TTL:P3D
REFRESH-INTERVAL:P3D
CALSCALE:GREGORIAN
BEGIN:VEVENT
DTSTART:20140429T200000Z
DTEND:20140429T220000Z
X-MICROSOFT-CDO-ALLDAYEVENT:FALSE
SUMMARY:coffee break
DESCRIPTION:Who's Invited?\n\nEveryone! This is an informal opportunity to learn more about elections and voting and meet some of the people who are working to make Hillsborough County the best place in America to vote!\n\n\n\nWhy stop by?\n\n\n\n	Meet your Supervisor of Elections\, Craig Latimer \n	Catch up with other poll workers\n	Get help registering to vote\, signing up for Vote By Mail ballots or making sure your information is up-to-date\n	Add your name to our list of potential poll workers (and if you're already on the list\, bring a friend who is interested!)\n	Find out about Adopt A Precinct--the fundraiser all the nonprofits are talking about!
X-ALT-DESC;FMTTYPE=text/html:<span style="color: rgb(17\, 47\, 95)\; font-family: &quot\;Georgia&quot\;\,&quot\;serif&quot\;\; font-size: 11pt\;">Who&#39\;s Invited?<br />\nEveryone! This is an informal opportunity to learn more about elections and voting and meet some of the people who are working to make Hillsborough County the best place in America to vote!</span><br />\n<br />\n<span style="font-size: 16pt\;"><span style="font-family: georgia\,serif\;"><span style="color: rgb(173\, 31\, 35)\;">Why stop by?</span></span></span>\n\n<div>\n<ul>\n	<li style="color: rgb(17\, 47\, 95)\;"><span style="font-size: 11pt\;"><span style="font-family: georgia\,serif\;">Meet your Supervisor of Elections\, Craig Latimer&nbsp\;</span></span></li>\n	<li style="color: rgb(17\, 47\, 95)\;"><span style="font-size: 11pt\;"><span style="font-family: georgia\,serif\;">Catch up with other&nbsp\;poll workers</span></span></li>\n	<li style="color: rgb(17\, 47\, 95)\;"><span style="font-size: 11pt\;"><span style="font-family: georgia\,serif\;">Get help registering to vote\, signing up for Vote By Mail ballots or making sure your information is up-to-date</span></span></li>\n	<li style="color: rgb(17\, 47\, 95)\;"><span style="font-size: 11pt\;"><span style="font-family: georgia\,serif\;">Add your name to our list of potential poll workers (and if you&#39\;re already on the list\, bring a friend who is interested!)</span></span></li>\n	<li style="color: rgb(17\, 47\, 95)\;"><span style="font-size: 11pt\;"><span style="font-family: georgia\,serif\;">Find out about Adopt A Precinct--the fundraiser all the nonprofits are talking about!</span></span></li>\n</ul>\n</div>\n
LOCATION:Hillsborough County Supervisor of Elections Robert L. Gilder Elections Service Center 2514 N. Falkenburg Rd. Tampa\, FL 33619
UID:e.438.16008
SEQUENCE:3
DTSTAMP:20260423T143619Z
URL:http://riverviewchamber.chambermaster.com/events/details/coffee-break-04-29-2014-16008
END:VEVENT

END:VCALENDAR
