BEGIN:VCALENDAR
VERSION:2.0
PRODID:-//ChamberMaster//Event Calendar 2.0//EN
METHOD:PUBLISH
X-PUBLISHED-TTL:P3D
REFRESH-INTERVAL:P3D
CALSCALE:GREGORIAN
BEGIN:VEVENT
DTSTART:20240820T223000Z
DTEND:20240821T000000Z
X-MICROSOFT-CDO-ALLDAYEVENT:FALSE
SUMMARY:Legacy Planning Panel
DESCRIPTION:ECHO is hosting a Legacy Planning Panel Q & A at our Riverview Emergency Center.  \n\nSeating is limited and dinner will be provided.  \n\nAnyone interested in learning about how to plan for the future use and conservation of your money is invited.  \n\nRSVP to steve@echofl.org to reserve your spot.\n\nInformal setting with lots of information sharing planned.\n\n\n\nAugust 20th\, 6:30pm-8:00pm
X-ALT-DESC;FMTTYPE=text/html:ECHO is hosting a Legacy Planning Panel Q &amp\; A at our Riverview Emergency Center.&nbsp\;&nbsp\;<br />\nSeating is limited and dinner will be provided.&nbsp\;&nbsp\;<br />\nAnyone interested in learning about how to plan for the future use and conservation of your money is invited.&nbsp\;&nbsp\;<br />\nRSVP to steve@echofl.org to reserve your spot.<br />\nInformal setting with lots of information sharing planned.<br />\n<br />\nAugust 20th\, 6:30pm-8:00pm<br />\n&nbsp\;
LOCATION:10509 Riverview Dr Riverview\, FL 33578
UID:e.438.59127
SEQUENCE:3
DTSTAMP:20260420T182946Z
URL:http://riverviewchamber.chambermaster.com/events/details/legacy-planning-panel-59127
END:VEVENT

END:VCALENDAR
