BEGIN:VCALENDAR
VERSION:2.0
PRODID:-//ChamberMaster//Event Calendar 2.0//EN
METHOD:PUBLISH
X-PUBLISHED-TTL:P3D
REFRESH-INTERVAL:P3D
CALSCALE:GREGORIAN
BEGIN:VEVENT
DTSTART:20100817T113000Z
DTEND:20100817T130000Z
X-MICROSOFT-CDO-ALLDAYEVENT:FALSE
SUMMARY:Professional Networking Breakfast
DESCRIPTION:Business Networking
X-ALT-DESC;FMTTYPE=text/html:Business Networking
LOCATION:231 Courtyard Blvd. Sun City Center
UID:e.438.3881
SEQUENCE:3
DTSTAMP:20260422T024923Z
URL:http://riverviewchamber.chambermaster.com/events/details/professional-networking-breakfast-08-17-2010-3881
END:VEVENT

END:VCALENDAR
