BEGIN:VCALENDAR
VERSION:2.0
PRODID:-//ChamberMaster//Event Calendar 2.0//EN
METHOD:PUBLISH
X-PUBLISHED-TTL:P3D
REFRESH-INTERVAL:P3D
CALSCALE:GREGORIAN
BEGIN:VEVENT
DTSTART:20240410T140000Z
DTEND:20240410T160000Z
X-MICROSOFT-CDO-ALLDAYEVENT:FALSE
SUMMARY:SBDC Workshop - Bookkeeping Basics
DESCRIPTION:Topic: Business Accounting and Budget\n\nProper bookkeeping is essential to managing your business. Learn how to classify and record basic business transactions\, enter data into an account\, chart accounts\, and many basic accounting terms. You'll also learn what you must hold on to for tax compliance and find out what accounting software might be useful to help make your bookkeeping easier.\n\nSpeaker(s): Retta Parsons
X-ALT-DESC;FMTTYPE=text/html:<div style="box-sizing: border-box\; color: rgb(33\, 37\, 41)\; font-family: Lato\, -apple-system\, BlinkMacSystemFont\, &quot\;Segoe UI&quot\;\, Roboto\, &quot\;Helvetica Neue&quot\;\, Arial\, sans-serif\; font-size: 16px\;">Topic: Business Accounting and Budget</div>\n\n<div class="cdworkshopHTMLinfo" style="box-sizing: border-box\; padding-top: 1em\; padding-bottom: 1em\; color: rgb(33\, 37\, 41)\; font-family: Lato\, -apple-system\, BlinkMacSystemFont\, &quot\;Segoe UI&quot\;\, Roboto\, &quot\;Helvetica Neue&quot\;\, Arial\, sans-serif\; font-size: 16px\;">Proper bookkeeping is essential to managing your business. Learn how to classify and record basic business transactions\, enter data into an account\, chart accounts\, and many basic accounting terms. You&rsquo\;ll also learn what you must hold on to for tax compliance and find out what accounting software might be useful to help make your bookkeeping easier.</div>\n\n<p class="cdworkshoptextinfo" style="box-sizing: border-box\; margin-top: 0px\; margin-bottom: 1rem\; white-space-collapse: preserve\; color: rgb(33\, 37\, 41)\; font-family: Lato\, -apple-system\, BlinkMacSystemFont\, &quot\;Segoe UI&quot\;\, Roboto\, &quot\;Helvetica Neue&quot\;\, Arial\, sans-serif\; font-size: 16px\;">Speaker(s): Retta Parsons</p>\n
LOCATION:HCC at The Regent (enter from lower level at back of building) 6437 Watson Road Riverview\, FL 33578
UID:e.438.58988
SEQUENCE:3
DTSTAMP:20260422T035920Z
URL:http://riverviewchamber.chambermaster.com/events/details/sbdc-workshop-bookkeeping-basics-58988
END:VEVENT

END:VCALENDAR
