BEGIN:VCALENDAR
VERSION:2.0
PRODID:-//ChamberMaster//Event Calendar 2.0//EN
METHOD:PUBLISH
X-PUBLISHED-TTL:P3D
REFRESH-INTERVAL:P3D
CALSCALE:GREGORIAN
BEGIN:VEVENT
DTSTART:20231207T130000Z
DTEND:20231207T153000Z
X-MICROSOFT-CDO-ALLDAYEVENT:FALSE
SUMMARY:Workforce Development Summit
DESCRIPTION:Workforce Summit presented by TECO Energy and hosted by Workforce Development Partners in partnership with Hillsborough County and the Hillsborough County School District. The Summit is an opportunity for Hillsborough County businesses to help meet their workforce needs. Learn about innovative success stories from industry leaders to inspire your company's recruiting\, retention\, and overall success. The Summit offers tips and insights from successful business leaders who know how to navigate the ever-changing demands of business.
X-ALT-DESC;FMTTYPE=text/html:<span style="color: rgb(20\, 22\, 48)\; font-family: Arial\, Verdana\, Helvetica\, sans-serif\; font-size: 14px\; white-space-collapse: preserve\;">Workforce Summit presented by TECO Energy and hosted by Workforce Development Partners in partnership with Hillsborough County and the Hillsborough County School District.&nbsp\;The Summit is an opportunity for Hillsborough County businesses to help meet their workforce needs.&nbsp\;Learn about innovative success stories from industry leaders to inspire your company&rsquo\;s recruiting\, retention\, and overall success. The Summit offers tips and insights from successful business leaders who know how to navigate the ever-changing demands of business.</span>
LOCATION:Centre Club 123 S West Shore Blvd\, 8th Floor Tampa\, FL 33609
UID:e.438.58631
SEQUENCE:3
DTSTAMP:20260421T002146Z
URL:http://riverviewchamber.chambermaster.com/events/details/workforce-development-summit-58631
END:VEVENT

END:VCALENDAR
