BEGIN:VCALENDAR
VERSION:2.0
PRODID:-//ChamberMaster//Event Calendar 2.0//EN
METHOD:PUBLISH
X-PUBLISHED-TTL:P3D
REFRESH-INTERVAL:P3D
CALSCALE:GREGORIAN
BEGIN:VEVENT
DTSTART:20240111T190000Z
DTEND:20240111T200000Z
X-MICROSOFT-CDO-ALLDAYEVENT:FALSE
SUMMARY:Workplace Safety Webinar
DESCRIPTION:Workplace Safety\n\n \n\nFree Employer Webinar -\n\n \n\n(U.S. Department of Labor\, Occupational Safety and Health Administration)\n\nDirect and indirect costs\n\nInspections\n\nFlorida fatalities\n\n \n\nAll business owners\, licensed contractors\, and employers/representatives are invited to attend.\n\n \n\nADVANCED REGISTRATION IS REQUIRED.
X-ALT-DESC;FMTTYPE=text/html:<p style="margin: 0px\; padding: 0px\;"><span style="color: rgb(49\, 95\, 195)\; font-weight: bold\;">Workplace Safety</span></p>\n\n<p style="margin: 0px\; padding: 0px\;">&nbsp\;</p>\n\n<p style="margin: 0px\; padding: 0px\;"><span style="color: rgb(0\, 0\, 0)\;">Free Employer Webinar -</span></p>\n\n<p style="margin: 0px\; padding: 0px\;">&nbsp\;</p>\n\n<p style="margin: 0px\; padding: 0px\;"><span style="color: rgb(0\, 0\, 0)\;">(U.S. Department of Labor\, Occupational Safety and Health Administration)</span></p>\n\n<p style="margin: 0px\; padding: 0px\;"><span style="color: rgb(0\, 0\, 0)\;">Direct and indirect costs</span></p>\n\n<p style="margin: 0px\; padding: 0px\;"><span style="color: rgb(0\, 0\, 0)\;">Inspections</span></p>\n\n<p style="margin: 0px\; padding: 0px\;"><span style="color: rgb(0\, 0\, 0)\;">Florida fatalities</span></p>\n\n<p style="margin: 0px\; padding: 0px\;">&nbsp\;</p>\n\n<p style="margin: 0px\; padding: 0px\;"><span style="color: rgb(0\, 0\, 0)\;">All business owners\, licensed contractors\, and employers/representatives are invited to attend.</span></p>\n\n<p style="margin: 0px\; padding: 0px\;">&nbsp\;</p>\n\n<p style="margin: 0px\; padding: 0px\;"><span style="color: rgb(0\, 0\, 0)\;">ADVANCED REGISTRATION IS REQUIRED.</span></p>\n\n<p style="margin: 0px\; padding: 0px\;">&nbsp\;</p>\n
LOCATION:Online Webinar
UID:e.438.58879
SEQUENCE:3
DTSTAMP:20260423T062753Z
URL:http://riverviewchamber.chambermaster.com/events/details/workplace-safety-webinar-58879
END:VEVENT

END:VCALENDAR
